BEGIN:VCALENDAR
VERSION:2.0
PRODID:-//Newbury ARC - ECPv6.15.20//NONSGML v1.0//EN
CALSCALE:GREGORIAN
METHOD:PUBLISH
X-ORIGINAL-URL:https://newburyarc.org.uk
X-WR-CALDESC:Events for Newbury ARC
REFRESH-INTERVAL;VALUE=DURATION:PT1H
X-Robots-Tag:noindex
X-PUBLISHED-TTL:PT1H
BEGIN:VTIMEZONE
TZID:UTC
BEGIN:STANDARD
TZOFFSETFROM:+0000
TZOFFSETTO:+0000
TZNAME:UTC
DTSTART:20180101T000000
END:STANDARD
END:VTIMEZONE
BEGIN:VEVENT
DTSTART;TZID=UTC:20221009T100000
DTEND;TZID=UTC:20221009T235900
DTSTAMP:20260422T170431
CREATED:20220821T140402Z
LAST-MODIFIED:20220910T201744Z
UID:587-1665309600-1665359940@newburyarc.org.uk
SUMMARY:HFT WL 2022 Round 1 Bisley
DESCRIPTION:Round 1 at Bisley to kick off the season \nWhat 3 Words : ///spits.showed.slam
URL:https://newburyarc.org.uk/event/hft-wl-2022-round-1-bisley/
LOCATION:Bisley\, Bisley\, GU24 0PB\, United Kingdom
CATEGORIES:2022-2023
END:VEVENT
BEGIN:VEVENT
DTSTART;TZID=UTC:20221002T100000
DTEND;TZID=UTC:20221002T170000
DTSTAMP:20260422T170431
CREATED:20220910T200621Z
LAST-MODIFIED:20220910T200621Z
UID:614-1664704800-1664730000@newburyarc.org.uk
SUMMARY:FT WL Round 1
DESCRIPTION:Frobury Frobury Farm Clay Shooting\, Folly Farm\, Kingsclere Rd\, Ramsdell\, Tadley\, Basingstoke RG26 5GJ\, Hampshire \n\nWhat 3 Words : ///downhill.enforced.mountains
URL:https://newburyarc.org.uk/event/ft-wl-round-1/
LOCATION:Frobury\, Frobury Farm Clay Shooting\, Folly Farm\, Kingsclare Rd\, RG26 5GJ\, United Kingdom
CATEGORIES:2022-2023
END:VEVENT
BEGIN:VEVENT
DTSTART;TZID=UTC:20220925T100000
DTEND;TZID=UTC:20220925T170000
DTSTAMP:20260422T170431
CREATED:20220910T202549Z
LAST-MODIFIED:20220910T202717Z
UID:629-1664100000-1664125200@newburyarc.org.uk
SUMMARY:AGM
DESCRIPTION:NARC AGM on Sunday 25th September starting at 10am at the club ground. \nIt is important you attend or send your apologies. \nAlso please bring cash or a cheque to renew your membership.  Last year the subs were £60. \nAndrew Slade
URL:https://newburyarc.org.uk/event/agm-3/
END:VEVENT
BEGIN:VEVENT
DTSTART;TZID=UTC:20220417T070000
DTEND;TZID=UTC:20220417T160000
DTSTAMP:20260422T170431
CREATED:20210812T084253Z
LAST-MODIFIED:20220321T062212Z
UID:535-1650178800-1650211200@newburyarc.org.uk
SUMMARY:HFT WL 2021 Round 6 Wendover
DESCRIPTION:Round 6 \nNote this is at the new ground \n///shoelaces.lecturers.trailer
URL:https://newburyarc.org.uk/event/hft-wl-2021-round-5-wendover/
LOCATION:Wendover New\, HP180RH
CATEGORIES:2021-2022
END:VEVENT
BEGIN:VEVENT
DTSTART;TZID=UTC:20220220T080000
DTEND;TZID=UTC:20220220T170000
DTSTAMP:20260422T170431
CREATED:20210812T085536Z
LAST-MODIFIED:20210812T085536Z
UID:551-1645344000-1645376400@newburyarc.org.uk
SUMMARY:FT WL 2021 Round 7 Southampton
DESCRIPTION:Round 7
URL:https://newburyarc.org.uk/event/ft-wl-2021-round-7-southampton/
CATEGORIES:2021-2022
END:VEVENT
BEGIN:VEVENT
DTSTART;TZID=UTC:20220206T080000
DTEND;TZID=UTC:20220206T170000
DTSTAMP:20260422T170431
CREATED:20210812T084202Z
LAST-MODIFIED:20210812T084202Z
UID:533-1644134400-1644166800@newburyarc.org.uk
SUMMARY:HFT WL 2021 Round 4 North Oxon
DESCRIPTION:Round 4
URL:https://newburyarc.org.uk/event/hft-wl-2021-round-4-north-oxon/
LOCATION:Kennel Copse\, Somerton \, OX27 7HR\, United Kingdom
CATEGORIES:2021-2022
END:VEVENT
BEGIN:VEVENT
DTSTART;TZID=UTC:20220123T080000
DTEND;TZID=UTC:20220123T170000
DTSTAMP:20260422T170431
CREATED:20210812T084815Z
LAST-MODIFIED:20210812T084815Z
UID:545-1642924800-1642957200@newburyarc.org.uk
SUMMARY:FT WL 2021 Round 7 Wendover
DESCRIPTION:Round 7
URL:https://newburyarc.org.uk/event/ft-wl-2021-round-7-wendover/
LOCATION:Wendover New\, HP180RH
CATEGORIES:2021-2022
END:VEVENT
BEGIN:VEVENT
DTSTART;TZID=UTC:20220116T080000
DTEND;TZID=UTC:20220116T170000
DTSTAMP:20260422T170431
CREATED:20210812T084100Z
LAST-MODIFIED:20210812T084100Z
UID:531-1642320000-1642352400@newburyarc.org.uk
SUMMARY:HFT WL 2021 Round 3 Newbury
DESCRIPTION:Our home round
URL:https://newburyarc.org.uk/event/hft-wl-2021-round-3-newbury/
LOCATION:Newbury\, United Kingdom
CATEGORIES:2021-2022
END:VEVENT
BEGIN:VEVENT
DTSTART;TZID=UTC:20220109T080000
DTEND;TZID=UTC:20220109T170000
DTSTAMP:20260422T170431
CREATED:20210812T084708Z
LAST-MODIFIED:20210812T085040Z
UID:543-1641715200-1641747600@newburyarc.org.uk
SUMMARY:FT WL 2021 Round 5 Newbury
DESCRIPTION:Our home shoot. No Club meeting this week
URL:https://newburyarc.org.uk/event/ft-wl-2021-round-4-newbury/
LOCATION:Newbury\, United Kingdom
CATEGORIES:2021-2022
END:VEVENT
BEGIN:VEVENT
DTSTART;TZID=UTC:20211128T080000
DTEND;TZID=UTC:20211128T170000
DTSTAMP:20260422T170431
CREATED:20210812T083956Z
LAST-MODIFIED:20210812T085558Z
UID:529-1638086400-1638118800@newburyarc.org.uk
SUMMARY:HFT WL 2021 Round 2 Basingstoke
DESCRIPTION:Round 2
URL:https://newburyarc.org.uk/event/hft-wl-2021-round-2-basingstoke/
LOCATION:Basingstoke Popham woods\, SO21 3BD
CATEGORIES:2021-2022
END:VEVENT
BEGIN:VEVENT
DTSTART;TZID=UTC:20211121T080000
DTEND;TZID=UTC:20211121T170000
DTSTAMP:20260422T170431
CREATED:20210812T085129Z
LAST-MODIFIED:20210812T085129Z
UID:549-1637481600-1637514000@newburyarc.org.uk
SUMMARY:FT WL 2021 Round 4 North Oxon
DESCRIPTION:Round 4
URL:https://newburyarc.org.uk/event/ft-wl-2021-round-4-north-oxon/
LOCATION:Kennel Copse\, Somerton \, OX27 7HR\, United Kingdom
CATEGORIES:2021-2022
END:VEVENT
BEGIN:VEVENT
DTSTART;TZID=UTC:20211107T080000
DTEND;TZID=UTC:20211107T170000
DTSTAMP:20260422T170431
CREATED:20210812T090001Z
LAST-MODIFIED:20210812T090001Z
UID:553-1636272000-1636304400@newburyarc.org.uk
SUMMARY:FT WL 2021 Round 3 Meon
DESCRIPTION:Round 3
URL:https://newburyarc.org.uk/event/ft-wl-2021-round-3-meon/
LOCATION:MEON Hen Woods\, GU32 1HY
CATEGORIES:2021-2022
END:VEVENT
BEGIN:VEVENT
DTSTART;TZID=UTC:20211024T070000
DTEND;TZID=UTC:20211024T160000
DTSTAMP:20260422T170431
CREATED:20210812T084448Z
LAST-MODIFIED:20210812T084448Z
UID:539-1635058800-1635091200@newburyarc.org.uk
SUMMARY:FT WL 2021 Round 2 Frobury
DESCRIPTION:Round 2
URL:https://newburyarc.org.uk/event/ft-wl-2021-round-2-frobury/
END:VEVENT
BEGIN:VEVENT
DTSTART;VALUE=DATE:20211016
DTEND;VALUE=DATE:20211018
DTSTAMP:20260422T170431
CREATED:20210812T083734Z
LAST-MODIFIED:20210812T083734Z
UID:527-1634425200-1634511599@newburyarc.org.uk
SUMMARY:HFT WL 2021 Round 1 Meon
DESCRIPTION:Round 1 at  Meon
URL:https://newburyarc.org.uk/event/hft-wl-2021-round-1-meon/
LOCATION:MEON Hen Woods\, GU32 1HY
CATEGORIES:2021-2022
END:VEVENT
BEGIN:VEVENT
DTSTART;TZID=UTC:20211003T070000
DTEND;TZID=UTC:20211003T160000
DTSTAMP:20260422T170431
CREATED:20210812T084410Z
LAST-MODIFIED:20210812T085230Z
UID:537-1633244400-1633276800@newburyarc.org.uk
SUMMARY:FT WL 2021 Round 1 Carisbrooke
DESCRIPTION:Round 1
URL:https://newburyarc.org.uk/event/ft-wl-2021-round-1-carisbrooke/
CATEGORIES:2021-2022
END:VEVENT
BEGIN:VEVENT
DTSTART;VALUE=DATE:20210403
DTEND;VALUE=DATE:20210405
DTSTAMP:20260422T170431
CREATED:20210327T091618Z
LAST-MODIFIED:20210327T091618Z
UID:517-1617490800-1617577199@newburyarc.org.uk
SUMMARY:Club reopening
DESCRIPTION:Club reopens in limited capacity. See news page for details. \n 
URL:https://newburyarc.org.uk/event/club-reopening/
LOCATION:Newbury\, United Kingdom
END:VEVENT
BEGIN:VEVENT
DTSTART;VALUE=DATE:20200315
DTEND;VALUE=DATE:20200316
DTSTAMP:20260422T170431
CREATED:20190825T143543Z
LAST-MODIFIED:20190825T143543Z
UID:479-1584230400-1584316799@newburyarc.org.uk
SUMMARY:HFT WL 2019 Round 5 North Oxon
DESCRIPTION:Round 5
URL:https://newburyarc.org.uk/event/hft-wl-2019-round-5-north-oxon/
LOCATION:Kennel Copse\, Somerton \, OX27 7HR\, United Kingdom
CATEGORIES:2019-2020
END:VEVENT
BEGIN:VEVENT
DTSTART;VALUE=DATE:20200216
DTEND;VALUE=DATE:20200217
DTSTAMP:20260422T170431
CREATED:20190825T143417Z
LAST-MODIFIED:20200215T123955Z
UID:477-1581811200-1581897599@newburyarc.org.uk
SUMMARY:HFT WL 2019 Round 4 Bisley CANCELLED
DESCRIPTION:Round 4 \n  \nDUE TO THE HIGH WINDS AND RAIN THIS HAS BEEN CANCELLED PENDING RESCHEDULING.
URL:https://newburyarc.org.uk/event/hft-wl-2019-round-4-bisley/
LOCATION:Bisley\, Bisley\, GU24 0PB\, United Kingdom
CATEGORIES:2019-2020
END:VEVENT
BEGIN:VEVENT
DTSTART;VALUE=DATE:20200202
DTEND;VALUE=DATE:20200203
DTSTAMP:20260422T170431
CREATED:20190825T143259Z
LAST-MODIFIED:20190825T143318Z
UID:475-1580601600-1580687999@newburyarc.org.uk
SUMMARY:HFT WL 2019 Round 3 Newbury
DESCRIPTION:Round 3 \nOur home shoot so please keep an eye out for setting up events on the Saturday
URL:https://newburyarc.org.uk/event/hft-wl-2019-round-3-newbury/
LOCATION:Newbury\, United Kingdom
CATEGORIES:2019-2020
END:VEVENT
BEGIN:VEVENT
DTSTART;VALUE=DATE:20191020
DTEND;VALUE=DATE:20191021
DTSTAMP:20260422T170431
CREATED:20190825T143127Z
LAST-MODIFIED:20190825T143127Z
UID:473-1571529600-1571615999@newburyarc.org.uk
SUMMARY:HFT WL 2019 Round 2 Basingstoke
DESCRIPTION:Round 2
URL:https://newburyarc.org.uk/event/hft-wl-2019-round-2-basingstoke/
LOCATION:Basingstoke Popham woods\, SO21 3BD
CATEGORIES:2019-2020
END:VEVENT
BEGIN:VEVENT
DTSTART;VALUE=DATE:20190929
DTEND;VALUE=DATE:20190930
DTSTAMP:20260422T170431
CREATED:20190825T143031Z
LAST-MODIFIED:20190825T143031Z
UID:471-1569715200-1569801599@newburyarc.org.uk
SUMMARY:HFT WL 2019 Round 1 Wendover
DESCRIPTION:Round 1
URL:https://newburyarc.org.uk/event/hft-wl-2019-round-1-wendover/
CATEGORIES:2019-2020
END:VEVENT
BEGIN:VEVENT
DTSTART;TZID=UTC:20190414T080000
DTEND;TZID=UTC:20190414T170000
DTSTAMP:20260422T170431
CREATED:20190310T094945Z
LAST-MODIFIED:20190310T095122Z
UID:456-1555228800-1555261200@newburyarc.org.uk
SUMMARY:Newbury HFT rescheduled
DESCRIPTION:The rescheduled CSFTA HFT round. \nLast shoot of the season so hope for good weather. \n  \n 
URL:https://newburyarc.org.uk/event/newbury-hft-rescheduled/
LOCATION:Newbury\, United Kingdom
CATEGORIES:2018-2019
END:VEVENT
BEGIN:VEVENT
DTSTART;TZID=UTC:20190413T090000
DTEND;TZID=UTC:20190413T120000
DTSTAMP:20260422T170431
CREATED:20181127T193726Z
LAST-MODIFIED:20190310T095101Z
UID:442-1555146000-1555156800@newburyarc.org.uk
SUMMARY:Newbury round set up
DESCRIPTION:Setting up the course for our round of the CSFTA winter league. \nPlease come along for a few hours and support your club getting the course set up. \nWe also need marshals for the competition itself so any help there is appreciated.
URL:https://newburyarc.org.uk/event/newbury-round-set-up/
LOCATION:Newbury\, United Kingdom
CATEGORIES:2018-2019
END:VEVENT
BEGIN:VEVENT
DTSTART;VALUE=DATE:20190331
DTEND;VALUE=DATE:20190401
DTSTAMP:20260422T170431
CREATED:20180830T124534Z
LAST-MODIFIED:20181127T193344Z
UID:426-1553990400-1554076799@newburyarc.org.uk
SUMMARY:HFT WL  round 5 North Oxon
DESCRIPTION:North Oxon
URL:https://newburyarc.org.uk/event/wl-hft-round-5-north-oxon/
LOCATION:Kennel Copse\, Somerton \, OX27 7HR\, United Kingdom
CATEGORIES:2018-2019
END:VEVENT
BEGIN:VEVENT
DTSTART;VALUE=DATE:20190310
DTEND;VALUE=DATE:20190311
DTSTAMP:20260422T170431
CREATED:20180830T104341Z
LAST-MODIFIED:20180830T105200Z
UID:424-1552176000-1552262399@newburyarc.org.uk
SUMMARY:FT round 8
DESCRIPTION:Buccaneers
URL:https://newburyarc.org.uk/event/ft-round-8/
CATEGORIES:2018-2019
END:VEVENT
BEGIN:VEVENT
DTSTART;VALUE=DATE:20190303
DTEND;VALUE=DATE:20190304
DTSTAMP:20260422T170431
CREATED:20180830T091547Z
LAST-MODIFIED:20181127T193326Z
UID:422-1551571200-1551657599@newburyarc.org.uk
SUMMARY:HFT WL Round 4 Wendover
DESCRIPTION:Wendover
URL:https://newburyarc.org.uk/event/wl-hft-round-4-wendover/
CATEGORIES:2018-2019
END:VEVENT
BEGIN:VEVENT
DTSTART;VALUE=DATE:20190224
DTEND;VALUE=DATE:20190225
DTSTAMP:20260422T170431
CREATED:20180830T104146Z
LAST-MODIFIED:20180830T105127Z
UID:420-1550966400-1551052799@newburyarc.org.uk
SUMMARY:FT round 7
DESCRIPTION:Newbury
URL:https://newburyarc.org.uk/event/ft-round-7/
LOCATION:Newbury\, United Kingdom
CATEGORIES:2018-2019
END:VEVENT
BEGIN:VEVENT
DTSTART;VALUE=DATE:20190210
DTEND;VALUE=DATE:20190211
DTSTAMP:20260422T170431
CREATED:20180830T104101Z
LAST-MODIFIED:20180830T105119Z
UID:418-1549756800-1549843199@newburyarc.org.uk
SUMMARY:FT Round 6
DESCRIPTION:Basingstoke
URL:https://newburyarc.org.uk/event/ft-round-6/
CATEGORIES:2018-2019
END:VEVENT
BEGIN:VEVENT
DTSTART;VALUE=DATE:20190203
DTEND;VALUE=DATE:20190204
DTSTAMP:20260422T170431
CREATED:20180830T124509Z
LAST-MODIFIED:20181127T193308Z
UID:416-1549152000-1549238399@newburyarc.org.uk
SUMMARY:HFT WL Round 3 Newbury
DESCRIPTION:This is our even so we will need help with marshalling and setting the course/painting targets. More info to come.
URL:https://newburyarc.org.uk/event/wl-hft-round-3-newbury/
LOCATION:Newbury\, United Kingdom
CATEGORIES:2018-2019
END:VEVENT
BEGIN:VEVENT
DTSTART;VALUE=DATE:20190113
DTEND;VALUE=DATE:20190114
DTSTAMP:20260422T170431
CREATED:20180830T091518Z
LAST-MODIFIED:20181127T193251Z
UID:410-1547337600-1547423999@newburyarc.org.uk
SUMMARY:HFT WL Round 2 Basingstoke
DESCRIPTION:Basingstoke
URL:https://newburyarc.org.uk/event/hft-wl-round-2-basingstoke/
LOCATION:Basingstoke Popham woods\, SO21 3BD
CATEGORIES:2018-2019
END:VEVENT
END:VCALENDAR